Workbook

Sheet 空白
A1: 109學年度以後「補助大專校院辦理就業學程計畫」經費規劃試算檢核表
A2: ※ 有顏色的欄位為公式，勿更動
A3: 項目 | C3: 說明 | D3: 單位 | E3: 單價 a | F3: 數量 b | G3: 金額c (c = a × b) | H3: 分署補助款d (自行填入) | I3: 學校自籌款 e | J3: 計算比例 | K3: 備註
A4: 1 | B4: 計畫主持人費 | C4: 應按月編列，每學程總額不得超過該學程補助額度合計之百分之五。 | D4: 月 | G4: =E4*F4 -> 0 | H4: =G4 -> 0 | J4: =IF(H23=0,"",H4/H23) | K4: ←勿超過 5%
A5: 2 | B5: 工作人員費 | C5: 應符合勞動部公告之當年度基本工資時薪標準規定編列，每人每日以八小時為限且每人每月以一百六十小時為上限，每學程總額不得超過該學程補助額度合計之百分之二十五。校內編制人員不得請領。以跨學程運用本項經費者，各學程間每人工作時段不得重複，且每月不得超過基本工資數額。 | D5: 小時 | G5: =E5*F5 -> 0 | H5: =G5 -> 0 | J5: =IF(H23=0,"",H5/H23) | K5: ←勿超過 25%
A6: 3 | B6: 出席費 | C6: 限辦理計畫之期中、期末檢討、規劃分析會議等專家學者出席費，每人每場次最高二千五佰元。但校內編制人員不得請領。 | D6: 人 | G6: =E6*F6 -> 0 | H6: =G6 -> 0
A7: 4 | B7: 講師鐘點費 | C7: 補助外聘講師每小時最高二千元。(限專精課程或共通核心職能課程) | D7: 小時 | G7: =E7*F7 -> 0 | H7: =G7 -> 0
C8: 補助內聘講師每小時最高一千元。 (限專精課程或共通核心職能課程) | D8: 小時 | G8: =E8*F8 -> 0 | H8: =G8 -> 0
A9: 5 | B9: 雜費 | C9: 限支用於教材、講義、文具紙張、郵資、印刷裝訂等，以每人每小時最高十二元計算（不含職場體驗課程）。 | D9: 人/小時 | G9: =E9*F9 -> 0 | H9: =G9 -> 0
A10: 6 | B10: 材料費 | C10: 限補助術科課程，支用於消耗性材料購置等項目，每人最高六百元為上限。 | D10: 人 | G10: =E10*F10 -> 0 | H10: =G10 -> 0
A11: 7 | B11: 場地費 | C11: 每日最高補助六千元，受補助單位以自有場地辦理者，不予補助。 | D11: 日 | G11: =E11*F11 -> 0 | H11: =G11 -> 0
A12: 8 | B12: 交通費 | C12: 補助外聘講師到校授課、業界專家學者到校出席會議及學校教師或工作人員拜訪本計畫合作單位之交通往返所需經費，依大眾運輸交通工具之票價補助，若因實際需要需搭乘高鐵或飛機者，應檢據覈實報銷。 | D12: 式 | G12: =E12*F12 -> 0 | H12: =G12 -> 0
A13: 9 | B13: 租車費 | C13: 每日每輛最高補助一萬元。 | D13: 輛 | G13: =E13*F13 -> 0 | H13: =G13 -> 0
A14: 10 | B14: 保險費 | C14: 補助參訓學生職場體驗期間之國內平安保險，補助保險額度每人最高一百萬元。 | D14: 人 | G14: =E14*F14 -> 0 | H14: =G14 -> 0
A15: 11 | B15: 優秀學員獎勵 | C15: 參訓學員成績為該學程全程參訓者前三名以內，由學程自訂獎勵金額，每學程總額不得超過該學程補助額度合計之百分之三。但學程人數未達十五人者，本項目經費不得支領。 | D15: 式 | G15: =E15*F15 -> 0 | H15: =G15 -> 0 | J15: =IF(H23=0,"",H15/H23) | K15: ←勿超過 3%
A16: 12 | B16: 訓練就業服務費 | C16: 編列金額方式以參訓學員人數乘以二千元為上限，用於受補助單位辦理就業輔導諮詢、就業輔導講座及職場體驗合作單位提供專業指導之相關經費。但校內編制人員不得請領。 | D16: 人 | G16: =E16*F16 -> 0 | H16: =G16 -> 0
A17: 13 | B17: 宣導費 | C17: 編列金額以每班次二萬元為上限。 | D17: 班 | G17: =E17*F17 -> 0 | H17: =G17 -> 0
A18: 14 | B18: 課程設計費 | C18: 受補助單位透過專家諮詢或會議討論等方式設計符合訓練內容之費用。 | D18: 式 | G18: =E18*F18 -> 0 | H18: =G18 -> 0
A19: 15 | B19: 行政管理費 | C19: 為上開各項費用總和百分之十為上限。 | D19: 式 | G19: =E19*F19 -> 0 | H19: =G19 -> 0 | J19: =IF(SUM(H4:H18)=0,"",(H19)/SUM(H4:H18)) | K19: ←勿超過 10%
A20: 16 | B20: 雜支 (非分署補助項目)1 | G20: =E20*F20 -> 0 | H20: =G20 -> 0
A21: 17 | B21: 其他 (非分署補助項目)2 | G21: =E21*F21 -> 0 | H21: =G21 -> 0
A22: 18 | B22: 其他 (非分署補助項目)3 | G22: =E22*F22 -> 0 | H22: =G22 -> 0
B23: 合計 | G23: =SUM(G4:G22) -> 0 | H23: =SUM(H4:H22) -> 0 | I23: =SUM(I4:I22) -> 0 | J23: =SUM(H23:I23) -> 0
A24: 占計畫總經費百分比 | H24: =IF(G23=0,"",H23/G23) | I24: =IF(G23=0,"",I23/G23) | J24: =SUM(H24:I24) -> 0 | K24: =100%
H25: ↑勿超過 80%，最高補助80萬元

Sheet 對照表
A1: 文創產業品牌設計與推廣人才培育學程 經費變更前、後對照表
A2: 項目 | C2: 分署補助款 | E2: 學校自籌款
A3: 項目 | C3: 變更前 | D3: 變更後 | E3: 變更前 | F3: 變更後
A4: 1 | B4: 計畫主持人費 | C4: =空白!H4 -> 0 | D4: =空白!H4 -> 0 | E4: =空白!I4 -> 0 | F4: =空白!I4 -> 0
A5: 2 | B5: 工作人員費 | C5: =空白!H5 -> 0 | D5: =空白!H5 -> 0 | E5: =空白!I5 -> 0 | F5: =空白!I5 -> 0
A6: 3 | B6: 出席費 | C6: =空白!H6 -> 0 | D6: =空白!H6 -> 0 | E6: =空白!I6 -> 0 | F6: =空白!I6 -> 0
A7: 4 | B7: 講師鐘點費(外) | C7: 209600 | D7: =空白!H7 -> 0 | E7: =空白!I7 -> 0 | F7: =空白!I7 -> 0
B8: 講師鐘點費(內) | C8: =空白!H8 -> 0 | D8: =空白!H8 -> 0 | E8: =空白!I8 -> 0 | F8: =空白!I8 -> 0
A9: 5 | B9: 學雜費 | C9: 32640 | D9: =空白!H9 -> 0 | E9: =空白!I9 -> 0 | F9: =空白!I9 -> 0
A10: 6 | B10: 材料費 | C10: 9000 | D10: =空白!H10 -> 0 | E10: =空白!I10 -> 0 | F10: =空白!I10 -> 0
A11: 7 | B11: 場地費 | C11: =空白!H11 -> 0 | D11: =空白!H11 -> 0 | E11: =空白!I11 -> 0 | F11: =空白!I11 -> 0
A12: 8 | B12: 交通費 | C12: 10000 | D12: =空白!H12 -> 0 | E12: =空白!I12 -> 0 | F12: =空白!I12 -> 0
A13: 9 | B13: 租車費 | C13: 9000 | D13: =空白!H13 -> 0 | E13: =空白!I13 -> 0 | F13: =空白!I13 -> 0
A14: 10 | B14: 保險費 | C14: =空白!H14 -> 0 | D14: =空白!H14 -> 0 | E14: =空白!I14 -> 0 | F14: =空白!I14 -> 0
A15: 11 | B15: 優秀學員獎勵 | C15: =空白!H15 -> 0 | D15: =空白!H15 -> 0 | E15: =空白!I15 -> 0 | F15: =空白!I15 -> 0
A16: 12 | B16: 訓後就業服務費 | C16: 40000 | D16: =空白!H16 -> 0 | E16: =空白!I16 -> 0 | F16: =空白!I16 -> 0
A17: 13 | B17: 行政管理費 | C17: =空白!H19 -> 0 | D17: =空白!H19 -> 0 | E17: =空白!I19 -> 0 | F17: =空白!I19 -> 0
A18: 14 | B18: 雜支 1 | C18: =空白!H20 -> 0 | D18: =空白!H20 -> 0 | E18: =空白!I20 -> 0 | F18: =空白!I20 -> 0
A19: 15 | B19: 雜支 2 | C19: =空白!H21 -> 0 | D19: =空白!H21 -> 0 | E19: =空白!I21 -> 0 | F19: =空白!I21 -> 0
A20: 16 | B20: 雜支 3 | C20: =空白!H22 -> 0 | D20: =空白!H22 -> 0 | E20: =空白!I22 -> 0 | F20: =空白!I22 -> 0
A21: 17 | B21: 雜支 4 | C21: =空白!#REF! -> #REF! | D21: =空白!#REF! -> #REF! | E21: =空白!#REF! -> #REF! | F21: =空白!#REF! -> #REF!
A22: 18 | B22: 雜支 5 | C22: =空白!#REF! -> #REF! | D22: =空白!#REF! -> #REF! | E22: =空白!#REF! -> #REF! | F22: =空白!#REF! -> #REF!
A23: 19 | B23: 雜支 6 | C23: =空白!#REF! -> #REF! | D23: =空白!#REF! -> #REF! | E23: =空白!#REF! -> #REF! | F23: =空白!#REF! -> #REF!
A24: 20 | B24: 雜支 7 | C24: =空白!#REF! -> #REF! | D24: =空白!#REF! -> #REF! | E24: =空白!#REF! -> #REF! | F24: =空白!#REF! -> #REF!
B25: 合計 | C25: =SUM(C4:C17) -> 310240 | D25: =SUM(D4:D24) -> #REF! | E25: =SUM(E4:E24) -> #REF! | F25: =SUM(F4:F24) -> #REF!
A26: 變更後，補助款及自籌款金額均未超過原核定金額，並符合規定。
